BEGIN:VCALENDAR
VERSION:2.0
PRODID:-//eventon.com NONSGML v1.0//EN
BEGIN:VEVENT
UID:69e73f867a792
DTSTAMP:20260421T101238
DTSTART:20240914T050000Z
DTEND:20240914T060000Z
TZID:Pacific/Midway
LOCATION:Salle CIE 
SUMMARY:Cours Body Taekwondo
DESCRIPTION: Cours Body Taekwondo\nhttps://www.hwarang.club/events/cours-body-taekwondo-2/
URL:https://www.hwarang.club/events/cours-body-taekwondo-2/
END:VEVENT
END:VCALENDAR