BEGIN:VCALENDAR
VERSION:2.0
PRODID:-//eventon.com NONSGML v1.0//EN
BEGIN:VEVENT
UID:69e72abe0dab2
DTSTAMP:20260421T084358
DTSTART:20241019T050000Z
DTEND:20241019T060000Z
TZID:Pacific/Midway
LOCATION:Salle CIE 
SUMMARY:Cours Body Taekwondo
DESCRIPTION: Cours Body Taekwondo\nhttps://www.hwarang.club/events/cours-body-taekwondo-2/var/ri-5.l-L1
URL:https://www.hwarang.club/events/cours-body-taekwondo-2/var/ri-5.l-L1
END:VEVENT
END:VCALENDAR